{"text_format":"1","workbook":"xlsx","n_sheets":11,"sheets":["父回答","母回答","息子回答","娘回答","父手がかり回答","母手がかり回答","息子手がかり回答","娘手がかり回答","回答一覧表","試験説明P1","採点基準"],"not_rendered":{"charts":0,"images":38,"macros":1,"external_links":0,"defined_names":69,"comments":4,"pivot_tables":0},"unopened":[],"bounds":{"document_bytes":16777216,"sheet_cells":100000,"rows_first":2000,"rows_last":500,"rows_between":2000,"halvings":0,"cell_chars":16384,"cell_head_chars":4096},"cells_cut":0,"cells_raw":0,"read":"whole","date_system":"1900"}

{"sheet":"父回答","index":0,"n_rows":38,"n_cols":17,"rows_kept":38,"cut":false,"hidden":false,"merged":[[20,11,20,12]]}
[null,"試験予定日","2024-04-10"]
[null,"予 約 時 間","12:30:00"]
[null,null,{"$f":"IFERROR(IF(C1<TODAY(),\"試験終了しました\",\"後､\"&_xlfn.DAYS(C1,TODAY())&\"日\"),\"日付､入力違いしていませんか？\")","v":"後､24日"}]
[]
[]
[]
[]
[]
[]
[null,null,null,null,null,null,{"$f":"IF($L$23=\"\",\"\",IF($L$23>=36,\"★☆彡合格です おめでとう☆彡☆★\",\"不合格です もう一度､頑張りましょう\"))","v":"不合格です もう一度､頑張りましょう"}]
[]
[]
[null,"　"]
[]
[null,"(問題用紙２) ３分間計測　(順不動)",null,null,null,null,null,null,null,null,"(問題用紙４) ２分間計測"]
[null,"自由回答(父)　",null,null,null,null,null,null,null,null,"時間の見当識(曜日は漢字で)"]
[{"$f":"父手がかり回答!B3","v":""},"1.","足",null,{"$f":"父手がかり回答!E3","v":0},"9.","スズメ",null,{"$f":"父手がかり回答!E11","v":0},{"$f":"父手がかり回答!B11","v":""},"今年は何年ですか？",{"$f":"IF($C$1=\"\",\"\",YEAR($C$1))","v":2024},"年",null,{"$f":"M17","v":"年"},{"$f":"IF($N$17=\"\",\"\",IF($L$17=$N$17,5,0))","v":""}]
[{"$f":"父手がかり回答!B4","v":""},"2.","ズボン",null,{"$f":"父手がかり回答!E4","v":0},"10.","カボチャ",null,{"$f":"父手がかり回答!E12","v":0},{"$f":"父手がかり回答!B12","v":""},"今月は何月ですか？",{"$f":"IF($C$1=\"\",\"\",MONTH($C$1))","v":4},"月",null,{"$f":"M18","v":"月"},{"$f":"IF($N$18=\"\",\"\",IF($L$18=$N$18,4,0))","v":""}]
[{"$f":"父手がかり回答!B5","v":""},"3.","ヘリコプター","ヘリコプター",{"$f":"父手がかり回答!E5","v":2},"11.","包丁",null,{"$f":"父手がかり回答!E13","v":0},{"$f":"父手がかり回答!B13","v":""},"今日は何日ですか？",{"$f":"IF($C$1=\"\",\"\",DAY($C$1))","v":10},"日",null,"日",{"$f":"IF($N$19=\"\",\"\",IF($L$19=$N$19,3,0))","v":""}]
[{"$f":"父手がかり回答!B6","v":""},"4.","筆","筆",{"$f":"父手がかり回答!E6","v":2},"12.","パイナップル",null,{"$f":"父手がかり回答!E14","v":0},{"$f":"父手がかり回答!B14","v":""},"今日は何曜日ですか？",{"$f":"IF($C$1=\"\",\"\",MID(\"日月火水木金土\",WEEKDAY($C$1),1))","v":"水"},"曜日",null,"曜日",{"$f":"IF($N$20=\"\",\"\",IF($L$20=$N$20,2,0))","v":""}]
[{"$f":"父手がかり回答!B7","v":""},"5.","馬","馬",{"$f":"父手がかり回答!E7","v":2},"13.","ノコギリ",null,{"$f":"父手がかり回答!E15","v":0},{"$f":"父手がかり回答!B15","v":""},"今は何時何分ですか？",{"$f":"$C$2+TIME(0,30,0)","v":"13:00:00"},null,null,null,{"$f":"IF(AND(L21+\"0:30\">=TIME(N21,O21,0), L21-\"0:30\"<=TIME(N21,O21,0)),1,0)","v":0}]
[{"$f":"父手がかり回答!B8","v":""},"6.","カブトムシ",null,{"$f":"父手がかり回答!E8","v":0},"14.","テレビ",null,{"$f":"父手がかり回答!E16","v":0},{"$f":"父手がかり回答!B16","v":""},"(時刻は24時間制で記入してください)",null,null,null,null,{"$f":"SUM(P17:P21)","v":0},"時間の見当識 得点"]
[{"$f":"父手がかり回答!B9","v":""},"7.","刀",null,{"$f":"父手がかり回答!E9","v":0},"15.","アコーディオン",null,{"$f":"父手がかり回答!E17","v":0},{"$f":"父手がかり回答!B17","v":""},{"$f":"$I$38+$P$22","v":6},{"$f":"IF(K23=0,\"\",INT((2.499*$I$38)+(1.336*$P$22)))","v":14},{"$f":"IF($K$23=0,\"入力して下さい\",IF($L$23>=36,\"36点以上なので認知症のおそれはありません\",\"36点未満なので認知症のおそれがあります\"))","v":"36点未満なので認知症のおそれがあります"}]
[{"$f":"父手がかり回答!B10","v":""},"8.","ひまわり",null,{"$f":"父手がかり回答!E10","v":0},"16.","ソファー",null,{"$f":"父手がかり回答!E18","v":0},{"$f":"父手がかり回答!B18","v":""}]
[null,{"$f":"父手がかり回答!$B$1","v":""},null,null,null,null,null,null,{"$f":"SUM($E$17:$E$24)+SUM($I$17:$I$24)","v":6},"自由回答 得点"]
[]
[null,"(問題用紙３) ３分間計測"]
[null,"手がかり回答(父)"]
[null,"1.戦いの武器","刀",null,{"$f":"IF(D29=\"\",0,IF(COUNTIF(戦いの武器父,D29),1,0))","v":0},"9.文房具","筆",null,{"$f":"IF(H29=\"\",0,IF(COUNTIF(文房具父,H29),1,0))","v":0}]
[null,"2.楽器","アコーデオン",null,{"$f":"IF(D30=\"\",0,IF(COUNTIF(楽器父,D30),1,0))","v":0},"10.乗り物","ヘリコプター",null,{"$f":"IF(H30=\"\",0,IF(COUNTIF(乗り物父,H30),1,0))","v":0}]
[null,"3.体の一部","足",null,{"$f":"IF(D31=\"\",0,IF(COUNTIF(体の一部父,D31),1,0))","v":0},"11.果物","パイナップル",null,{"$f":"IF(H31=\"\",0,IF(COUNTIF(果物父,H31),1,0))","v":0}]
[null,"4.電気製品","テレビ",null,{"$f":"IF(D32=\"\",0,IF(COUNTIF(電気製品父,D32),1,0))","v":0},"12.衣類","ズボン",null,{"$f":"IF(H32=\"\",0,IF(COUNTIF(衣類父,H32),1,0))","v":0}]
[null,"5.昆虫","カブトムシ",null,{"$f":"IF(D33=\"\",0,IF(COUNTIF(昆虫父,D33),1,0))","v":0},"13.鳥","スズメ",null,{"$f":"IF(H33=\"\",0,IF(COUNTIF(鳥父,H33),1,0))","v":0}]
[null,"6.動物","馬",null,{"$f":"IF(D34=\"\",0,IF(COUNTIF(動物父,D34),1,0))","v":0},"14.花","ひまわり",null,{"$f":"IF(H34=\"\",0,IF(COUNTIF(花父,H34),1,0))","v":0}]
[null,"7.野菜","カボチャ",null,{"$f":"IF(D35=\"\",0,IF(COUNTIF(野菜父,D35),1,0))","v":0},"15.大工道具","ノコギリ",null,{"$f":"IF(H35=\"\",0,IF(COUNTIF(大工道具父,H35),1,0))","v":0},"自由回答が 誤 の場合のみ､手がかり回答は 1点の得点"]
[null,"8.台所用品","包丁",null,{"$f":"IF(D36=\"\",0,IF(COUNTIF(台所用品父,D36),1,0))","v":0},"16.家具","ソファー",null,{"$f":"IF(H36=\"\",0,IF(COUNTIF(家具父,H36),1,0))","v":0},"自由回答が 正 の場合､手がかり回答が 正でも得点は 0点"]
[null,null,null,null,null,null,null,null,{"$f":"父手がかり回答!$E$39","v":0},"←手がかり回答 得点"]
[null,null,null,null,null,null,null,null,{"$f":"$I$25+$I$37","v":6},"手がかり再生の得点"]

{"sheet":"母回答","index":1,"n_rows":38,"n_cols":17,"rows_kept":38,"cut":false,"hidden":false,"merged":[[20,11,20,12],[46,11,47,11],[46,13,47,13]]}
[null,"試験予定日",{"$f":"父回答!$C$1","v":"2024-04-10"}]
[null,"予 約 時 間",{"$f":"父回答!$C$2","v":"12:30:00"}]
[null,null,{"$f":"父回答!$C$3","v":"後､24日"}]
[]
[]
[]
[]
[]
[]
[null,null,null,null,null,null,{"$f":"IF($L$23=\"\",\"\",IF($L$23>=36,\"★☆彡合格です おめでとう☆彡☆★\",\"不合格です もう一度､頑張りましょう\"))","v":"不合格です もう一度､頑張りましょう"}]
[]
[]
[null,"　"]
[]
[null,"(問題用紙２) ３分間計測　(順不動)",null,null,null,null,null,null,null,null,"(問題用紙４) ２分間計測"]
[null,"自由回答(母)",null,null,null,null,null,null,null,null,"時間の見当識(曜日は漢字で)"]
[{"$f":"母手がかり回答!B3","v":""},"1.","親指","親指",{"$f":"母手がかり回答!E3","v":2},"9.","トウモロコシ",null,{"$f":"母手がかり回答!E11","v":0},{"$f":"母手がかり回答!B11","v":""},"今年は何年ですか？",{"$f":"IF($C$1=\"\",\"\",YEAR($C$1))","v":2024},"年",null,{"$f":"M17","v":"年"},{"$f":"IF($N$17=\"\",\"\",IF($L$17=$N$17,5,0))","v":""}]
[{"$f":"母手がかり回答!B4","v":""},"2.","クジャク","クジャク",{"$f":"母手がかり回答!E4","v":2},"10.","なべ",null,{"$f":"母手がかり回答!E12","v":0},{"$f":"母手がかり回答!B12","v":""},"今月は何月ですか？",{"$f":"IF($C$1=\"\",\"\",MONTH($C$1))","v":4},"月",null,{"$f":"M18","v":"月"},{"$f":"IF($N$18=\"\",\"\",IF($L$18=$N$18,4,0))","v":""}]
[{"$f":"母手がかり回答!B5","v":""},"3.","ドレス","ドレス",{"$f":"母手がかり回答!E5","v":2},"11.","ドライバー",null,{"$f":"母手がかり回答!E13","v":0},{"$f":"母手がかり回答!B13","v":""},"今日は何日ですか？",{"$f":"IF($C$1=\"\",\"\",DAY($C$1))","v":10},"日",null,"日",{"$f":"IF($N$19=\"\",\"\",IF($L$19=$N$19,3,0))","v":""}]
[{"$f":"母手がかり回答!B6","v":""},"4.","トラック",null,{"$f":"母手がかり回答!E6","v":0},"12.","メロン",null,{"$f":"母手がかり回答!E14","v":0},{"$f":"母手がかり回答!B14","v":""},"今日は何曜日ですか？",{"$f":"IF($C$1=\"\",\"\",MID(\"日月火水木金土\",WEEKDAY($C$1),1))","v":"水"},"曜日",null,"曜日",{"$f":"IF($N$20=\"\",\"\",IF($L$20=$N$20,2,0))","v":""}]
[{"$f":"母手がかり回答!B7","v":""},"5.","機関銃","機関銃",{"$f":"母手がかり回答!E7","v":2},"13.","ハサミ",null,{"$f":"母手がかり回答!E15","v":0},{"$f":"母手がかり回答!B15","v":""},"今は何時何分ですか？",{"$f":"$C$2+TIME(0,30,0)","v":"13:00:00"},null,null,null,{"$f":"IF(AND(L21+\"0:30\">=TIME(N21,O21,0), L21-\"0:30\"<=TIME(N21,O21,0)),1,0)","v":0}]
[{"$f":"母手がかり回答!B8","v":""},"6.","牛","牛",{"$f":"母手がかり回答!E8","v":2},"14.","電子レンジ",null,{"$f":"母手がかり回答!E16","v":0},{"$f":"母手がかり回答!B16","v":""},"(時刻は24時間制で記入してください)",null,null,null,null,{"$f":"SUM(P17:P21)","v":0},"時間の見当識 得点"]
[{"$f":"母手がかり回答!B9","v":""},"7.","チューリップ","チューリップ",{"$f":"母手がかり回答!E9","v":2},"15.","琴",null,{"$f":"母手がかり回答!E17","v":0},{"$f":"母手がかり回答!B17","v":""},{"$f":"$I$38+$P$22","v":14},{"$f":"IF(K23=0,\"\",INT((2.499*$I$38)+(1.336*$P$22)))","v":34},{"$f":"IF($K$23=0,\"入力して下さい\",IF($L$23>=36,\"36点以上なので認知症のおそれはありません\",\"36点未満なので認知症のおそれがあります\"))","v":"36点未満なので認知症のおそれがあります"}]
[{"$f":"母手がかり回答!B10","v":""},"8.","セミ","セミ",{"$f":"母手がかり回答!E10","v":2},"16.","椅子",null,{"$f":"母手がかり回答!E18","v":0},{"$f":"母手がかり回答!B18","v":""}]
[null,{"$f":"母手がかり回答!$B$1","v":""},null,null,null,null,null,null,{"$f":"SUM($E$17:$E$24)+SUM($I$17:$I$24)","v":14},"自由回答 得点"]
[]
[null,"(問題用紙３) ３分間計測"]
[null,"手がかり回答(母)"]
[null,"1.戦いの武器","機関銃",null,{"$f":"IF(D29=\"\",0,IF(COUNTIF(戦いの武器母,D29),1,0))","v":0},"9.文房具","ハサミ",null,{"$f":"IF(H29=\"\",0,IF(COUNTIF(文房具母,H29),1,0))","v":0}]
[null,"2.楽器","琴",null,{"$f":"IF(D30=\"\",0,IF(COUNTIF(楽器母,D30),1,0))","v":0},"10.乗り物","トラック",null,{"$f":"IF(H30=\"\",0,IF(COUNTIF(乗り物母,H30),1,0))","v":0}]
[null,"3.体の一部","親指",null,{"$f":"IF(D31=\"\",0,IF(COUNTIF(体の一部母,D31),1,0))","v":0},"11.果物","メロン",null,{"$f":"IF(H31=\"\",0,IF(COUNTIF(果物母,H31),1,0))","v":0}]
[null,"4.電気製品","電子レンジ",null,{"$f":"IF(D32=\"\",0,IF(COUNTIF(電気製品母,D32),1,0))","v":0},"12.衣類","ドレス",null,{"$f":"IF(H32=\"\",0,IF(COUNTIF(衣類母,H32),1,0))","v":0}]
[null,"5.昆虫","せみ",null,{"$f":"IF(D33=\"\",0,IF(COUNTIF(昆虫母,D33),1,0))","v":0},"13.鳥","クジャク",null,{"$f":"IF(H33=\"\",0,IF(COUNTIF(鳥母,H33),1,0))","v":0}]
[null,"6.動物","牛",null,{"$f":"IF(D34=\"\",0,IF(COUNTIF(動物母,D34),1,0))","v":0},"14.花","チューリップ",null,{"$f":"IF(H34=\"\",0,IF(COUNTIF(花母,H34),1,0))","v":0}]
[null,"7.野菜","トウモロコシ",null,{"$f":"IF(D35=\"\",0,IF(COUNTIF(野菜母,D35),1,0))","v":0},"15.大工道具","ドライバー",null,{"$f":"IF(H35=\"\",0,IF(COUNTIF(大工道具母,H35),1,0))","v":0},"自由回答が 誤 の場合のみ､手がかり回答は 1点の得点"]
[null,"8.台所用品","なべ",null,{"$f":"IF(D36=\"\",0,IF(COUNTIF(台所用品母,D36),1,0))","v":0},"16.家具","いす",null,{"$f":"IF(H36=\"\",0,IF(COUNTIF(家具母,H36),1,0))","v":0},"自由回答が 正 の場合､手がかり回答が 正でも得点は 0点"]
[null,null,null,null,null,null,null,null,{"$f":"母手がかり回答!$E$39","v":0},"←手がかり回答 得点"]
[null,null,null,null,null,null,null,null,{"$f":"$I$25+$I$37","v":14},"手がかり再生の得点"]

{"sheet":"息子回答","index":2,"n_rows":38,"n_cols":17,"rows_kept":38,"cut":false,"hidden":false,"merged":[[20,11,20,12],[46,11,47,11],[46,13,47,13]]}
[null,"試験予定日",{"$f":"父回答!$C$1","v":"2024-04-10"}]
[null,"予 約 時 間",{"$f":"父回答!$C$2","v":"12:30:00"}]
[null,null,{"$f":"父回答!$C$3","v":"後､24日"}]
[]
[]
[]
[]
[]
[]
[null,null,null,null,null,null,{"$f":"IF($L$23=\"\",\"\",IF($L$23>=36,\"★☆彡合格です おめでとう☆彡☆★\",\"不合格です もう一度､頑張りましょう\"))","v":"★☆彡合格です おめでとう☆彡☆★"}]
[]
[]
[]
[]
[null,"(問題用紙２) ３分間計測　(順不動)",null,null,null,null,null,null,null,null,"(問題用紙４) ２分間計測"]
[null,"自由回答(息子)",null,null,null,null,null,null,null,null,"時間の見当識(曜日は漢字で)"]
[{"$f":"息子手がかり回答!B3","v":""},"1.","目",null,{"$f":"息子手がかり回答!E3","v":0},"9.","ペンギン",null,{"$f":"息子手がかり回答!E11","v":0},{"$f":"息子手がかり回答!B11","v":""},"今年は何年ですか？",{"$f":"IF($C$1=\"\",\"\",YEAR($C$1))","v":2024},"年",null,{"$f":"M17","v":"年"},{"$f":"IF($N$17=\"\",\"\",IF($L$17=$N$17,5,0))","v":""}]
[{"$f":"息子手がかり回答!B4","v":""},"2.","コート","コート",{"$f":"息子手がかり回答!E4","v":2},"10.","トマト","トマト",{"$f":"息子手がかり回答!E12","v":2},{"$f":"息子手がかり回答!B12","v":""},"今月は何月ですか？",{"$f":"IF($C$1=\"\",\"\",MONTH($C$1))","v":4},"月",null,{"$f":"M18","v":"月"},{"$f":"IF($N$18=\"\",\"\",IF($L$18=$N$18,4,0))","v":""}]
[{"$f":"息子手がかり回答!B5","v":""},"3.","飛行機","飛行機",{"$f":"息子手がかり回答!E5","v":2},"11.","やかん","やかん",{"$f":"息子手がかり回答!E13","v":2},{"$f":"息子手がかり回答!B13","v":"重複"},"今日は何日ですか？",{"$f":"IF($C$1=\"\",\"\",DAY($C$1))","v":10},"日",null,"日",{"$f":"IF($N$19=\"\",\"\",IF($L$19=$N$19,3,0))","v":""}]
[{"$f":"息子手がかり回答!B6","v":""},"4.","万年筆","万年筆",{"$f":"息子手がかり回答!E6","v":2},"12.","レモン",null,{"$f":"息子手がかり回答!E14","v":0},{"$f":"息子手がかり回答!B14","v":""},"今日は何曜日ですか？",{"$f":"IF($C$1=\"\",\"\",MID(\"日月火水木金土\",WEEKDAY($C$1),1))","v":"水"},"曜日",null,"曜日",{"$f":"IF($N$20=\"\",\"\",IF($L$20=$N$20,2,0))","v":""}]
[{"$f":"息子手がかり回答!B7","v":"重複"},"5.","うさぎ","やかん",{"$f":"息子手がかり回答!E7","v":2},"13.","机","机",{"$f":"息子手がかり回答!E15","v":2},{"$f":"息子手がかり回答!B15","v":""},"今は何時何分ですか？",{"$f":"$C$2+TIME(0,30,0)","v":"13:00:00"},null,null,null,{"$f":"IF(AND(L21+\"0:30\">=TIME(N21,O21,0), L21-\"0:30\"<=TIME(N21,O21,0)),1,0)","v":0}]
[{"$f":"息子手がかり回答!B8","v":"重複"},"6.","トンボ","やかん",{"$f":"息子手がかり回答!E8","v":2},"14.","かなづち",null,{"$f":"息子手がかり回答!E16","v":0},{"$f":"息子手がかり回答!B16","v":""},"(時刻は24時間制で記入してください)",null,null,null,null,{"$f":"SUM(P17:P21)","v":0},"時間の見当識 得点"]
[{"$f":"息子手がかり回答!B9","v":""},"7.","戦車",null,{"$f":"息子手がかり回答!E9","v":0},"15.","ステレオ",null,{"$f":"息子手がかり回答!E17","v":0},{"$f":"息子手がかり回答!B17","v":""},{"$f":"$I$38+$P$22","v":19},{"$f":"IF(K23=0,\"\",INT((2.499*$I$38)+(1.336*$P$22)))","v":47},{"$f":"IF($K$23=0,\"入力して下さい\",IF($L$23>=36,\"36点以上なので認知症のおそれはありません\",\"36点未満なので認知症のおそれがあります\"))","v":"36点以上なので認知症のおそれはありません"}]
[{"$f":"息子手がかり回答!B10","v":""},"8.","ゆり",null,{"$f":"息子手がかり回答!E10","v":0},"16.","たいこ",null,{"$f":"息子手がかり回答!E18","v":0},{"$f":"息子手がかり回答!B18","v":""}]
[null,{"$f":"息子手がかり回答!$B$1","v":"重複した答えは一つのみ残しDeleteしてください"},null,null,null,null,null,null,{"$f":"SUM($E$17:$E$24)+SUM($I$17:$I$24)","v":16},"自由回答 得点"]
[]
[null,"(問題用紙３) ３分間計測"]
[null,"手がかり回答(息子)"]
[null,"1.戦いの武器","戦車","戦車",{"$f":"IF(D29=\"\",0,IF(COUNTIF(戦いの武器息子,D29),1,0))","v":1},"9.文房具","万年筆",null,{"$f":"IF(H29=\"\",0,IF(COUNTIF(文房具息子,H29),1,0))","v":0}]
[null,"2.楽器","たいこ","たいこ",{"$f":"IF(D30=\"\",0,IF(COUNTIF(楽器息子,D30),1,0))","v":1},"10.乗り物","飛行機","飛行機",{"$f":"IF(H30=\"\",0,IF(COUNTIF(乗り物息子,H30),1,0))","v":1}]
[null,"3.体の一部","目","目",{"$f":"IF(D31=\"\",0,IF(COUNTIF(体の一部息子,D31),1,0))","v":1},"11.果物","レモン","レモン",{"$f":"IF(H31=\"\",0,IF(COUNTIF(果物息子,H31),1,0))","v":1}]
[null,"4.電気製品","ステレオ","ステレオ",{"$f":"IF(D32=\"\",0,IF(COUNTIF(電気製品息子,D32),1,0))","v":1},"12.衣類","コート",null,{"$f":"IF(H32=\"\",0,IF(COUNTIF(衣類息子,H32),1,0))","v":0}]
[null,"5.昆虫","とんぼ","とんぼ",{"$f":"IF(D33=\"\",0,IF(COUNTIF(昆虫息子,D33),1,0))","v":1},"13.鳥","ペンギン","ペンギン",{"$f":"IF(H33=\"\",0,IF(COUNTIF(鳥息子,H33),1,0))","v":1}]
[null,"6.動物","うさぎ","うさぎ",{"$f":"IF(D34=\"\",0,IF(COUNTIF(動物息子,D34),1,0))","v":1},"14.花","ゆり",null,{"$f":"IF(H34=\"\",0,IF(COUNTIF(花息子,H34),1,0))","v":0}]
[null,"7.野菜","トマト","トマト",{"$f":"IF(D35=\"\",0,IF(COUNTIF(野菜息子,D35),1,0))","v":1},"15.大工道具","かなづち",null,{"$f":"IF(H35=\"\",0,IF(COUNTIF(大工道具息子,H35),1,0))","v":0},"自由回答が 誤 の場合のみ､手がかり回答は 1点の得点"]
[null,"8.台所用品","やかん","やかん",{"$f":"IF(D36=\"\",0,IF(COUNTIF(台所用品息子,D36),1,0))","v":1},"16.家具","机",null,{"$f":"IF(H36=\"\",0,IF(COUNTIF(家具息子,H36),1,0))","v":0},"自由回答が 正 の場合､手がかり回答が 正でも得点は 0点"]
[null,null,null,null,null,null,null,null,{"$f":"息子手がかり回答!$E$39","v":3},"←手がかり回答 得点"]
[null,null,null,null,null,null,null,null,{"$f":"$I$25+$I$37","v":19},"手がかり再生の得点"]

{"sheet":"娘回答","index":3,"n_rows":38,"n_cols":17,"rows_kept":38,"cut":false,"hidden":false,"merged":[[20,11,20,12],[46,11,47,11],[46,13,47,13]]}
[null,"試験予定日",{"$f":"父回答!$C$1","v":"2024-04-10"}]
[null,"予 約 時 間",{"$f":"父回答!$C$2","v":"12:30:00"}]
[null,null,{"$f":"父回答!$C$3","v":"後､24日"}]
[]
[]
[]
[]
[]
[]
[null,null,null,null,null,null,{"$f":"IF($L$23=\"\",\"\",IF($L$23>=36,\"★☆彡合格です おめでとう☆彡☆★\",\"不合格です もう一度､頑張りましょう\"))","v":"★☆彡合格です おめでとう☆彡☆★"}]
[]
[]
[null,"　"]
[]
[null,"(問題用紙２) ３分間計測　(順不動)",null,null,null,null,null,null,null,null,"(問題用紙４) ２分間計測"]
[null,"自由回答(娘)",null,null,null,null,null,null,null,null,"時間の見当識(曜日は漢字で)"]
[{"$f":"娘手がかり回答!B3","v":""},"1.","耳","耳",{"$f":"娘手がかり回答!E3","v":2},"9.","たいほう",null,{"$f":"娘手がかり回答!E11","v":0},{"$f":"娘手がかり回答!B11","v":""},"今年は何年ですか？",{"$f":"IF($C$1=\"\",\"\",YEAR($C$1))","v":2024},"年",null,{"$f":"M17","v":"年"},{"$f":"IF($N$17=\"\",\"\",IF($L$17=$N$17,5,0))","v":""}]
[{"$f":"娘手がかり回答!B4","v":""},"2.","てんとう虫","てんとう虫",{"$f":"娘手がかり回答!E4","v":2},"10.","にわとり",null,{"$f":"娘手がかり回答!E12","v":0},{"$f":"娘手がかり回答!B12","v":""},"今月は何月ですか？",{"$f":"IF($C$1=\"\",\"\",MONTH($C$1))","v":4},"月",null,{"$f":"M18","v":"月"},{"$f":"IF($N$18=\"\",\"\",IF($L$18=$N$18,4,0))","v":""}]
[{"$f":"娘手がかり回答!B5","v":""},"3.","ぶどう",null,{"$f":"娘手がかり回答!E5","v":0},"11.","バラ","ペンチ",{"$f":"娘手がかり回答!E13","v":2},{"$f":"娘手がかり回答!B13","v":"重複"},"今日は何日ですか？",{"$f":"IF($C$1=\"\",\"\",DAY($C$1))","v":10},"日",null,"日",{"$f":"IF($N$19=\"\",\"\",IF($L$19=$N$19,3,0))","v":""}]
[{"$f":"娘手がかり回答!B6","v":"重複"},"4.","ペンチ","ペンチ",{"$f":"娘手がかり回答!E6","v":2},"12.","たけのこ","スカート",{"$f":"娘手がかり回答!E14","v":2},{"$f":"娘手がかり回答!B14","v":"重複"},"今日は何曜日ですか？",{"$f":"IF($C$1=\"\",\"\",MID(\"日月火水木金土\",WEEKDAY($C$1),1))","v":"水"},"曜日",null,"曜日",{"$f":"IF($N$20=\"\",\"\",IF($L$20=$N$20,2,0))","v":""}]
[{"$f":"娘手がかり回答!B7","v":"重複"},"5.","スカート","スカート",{"$f":"娘手がかり回答!E7","v":2},"13.","フライパン",null,{"$f":"娘手がかり回答!E15","v":0},{"$f":"娘手がかり回答!B15","v":""},"今は何時何分ですか？",{"$f":"$C$2+TIME(0,30,0)","v":"13:00:00"},null,13,null,{"$f":"IF(AND(L21+\"0:30\">=TIME(N21,O21,0), L21-\"0:30\"<=TIME(N21,O21,0)),1,0)","v":1}]
[{"$f":"娘手がかり回答!B8","v":""},"6.","ものさし","ものさし",{"$f":"娘手がかり回答!E8","v":2},"14.","ラジオ",null,{"$f":"娘手がかり回答!E16","v":0},{"$f":"娘手がかり回答!B16","v":""},"(時刻は24時間制で記入してください)",null,null,null,null,{"$f":"SUM(P17:P21)","v":1},"時間の見当識 得点"]
[{"$f":"娘手がかり回答!B9","v":""},"7.","オートバイ","オートバイ",{"$f":"娘手がかり回答!E9","v":2},"15.","オルガン",null,{"$f":"娘手がかり回答!E17","v":0},{"$f":"娘手がかり回答!B17","v":""},{"$f":"$I$38+$P$22","v":19},{"$f":"IF(K23=0,\"\",INT((2.499*$I$38)+(1.336*$P$22)))","v":46},{"$f":"IF($K$23=0,\"入力して下さい\",IF($L$23>=36,\"36点以上なので認知症のおそれはありません\",\"36点未満なので認知症のおそれがあります\"))","v":"36点以上なので認知症のおそれはありません"}]
[{"$f":"娘手がかり回答!B10","v":""},"8.","ライオン","ライオン",{"$f":"娘手がかり回答!E10","v":2},"16.","ベット",null,{"$f":"娘手がかり回答!E18","v":0},{"$f":"娘手がかり回答!B18","v":""}]
[null,{"$f":"娘手がかり回答!$B$1","v":"重複した答えは一つのみ残しDeleteしてください"},null,null,null,null,null,null,{"$f":"SUM($E$17:$E$24)+SUM($I$17:$I$24)","v":18},"自由回答 得点"]
[]
[null,"(問題用紙３) ３分間計測"]
[null,"手がかり回答(娘)"]
[null,"1.戦いの武器","たいほう",null,{"$f":"IF(D29=\"\",0,IF(COUNTIF(戦いの武器娘,D29),1,0))","v":0},"9.文房具","ものさし",null,{"$f":"IF(H29=\"\",0,IF(COUNTIF(文房具娘,H29),1,0))","v":0}]
[null,"2.楽器","オルガン",null,{"$f":"IF(D30=\"\",0,IF(COUNTIF(楽器娘,D30),1,0))","v":0},"10.乗り物","オートバイ",null,{"$f":"IF(H30=\"\",0,IF(COUNTIF(乗り物娘,H30),1,0))","v":0}]
[null,"3.体の一部","耳",null,{"$f":"IF(D31=\"\",0,IF(COUNTIF(体の一部娘,D31),1,0))","v":0},"11.果物","ぶどう",null,{"$f":"IF(H31=\"\",0,IF(COUNTIF(果物娘,H31),1,0))","v":0}]
[null,"4.電気製品","ラジオ",null,{"$f":"IF(D32=\"\",0,IF(COUNTIF(電気製品娘,D32),1,0))","v":0},"12.衣類","スカート",null,{"$f":"IF(H32=\"\",0,IF(COUNTIF(衣類娘,H32),1,0))","v":0}]
[null,"5.昆虫","てんとう虫",null,{"$f":"IF(D33=\"\",0,IF(COUNTIF(昆虫娘,D33),1,0))","v":0},"13.鳥","にわとり",null,{"$f":"IF(H33=\"\",0,IF(COUNTIF(鳥娘,H33),1,0))","v":0}]
[null,"6.動物","ライオン",null,{"$f":"IF(D34=\"\",0,IF(COUNTIF(動物娘,D34),1,0))","v":0},"14.花","バラ",null,{"$f":"IF(H34=\"\",0,IF(COUNTIF(花娘,H34),1,0))","v":0}]
[null,"7.野菜","たけのこ",null,{"$f":"IF(D35=\"\",0,IF(COUNTIF(野菜娘,D35),1,0))","v":0},"15.大工道具","ペンチ",null,{"$f":"IF(H35=\"\",0,IF(COUNTIF(大工道具娘,H35),1,0))","v":0},"自由回答が 誤 の場合のみ､手がかり回答は 1点の得点"]
[null,"8.台所用品","フライパン",null,{"$f":"IF(D36=\"\",0,IF(COUNTIF(台所用品娘,D36),1,0))","v":0},"16.家具","ベット",null,{"$f":"IF(H36=\"\",0,IF(COUNTIF(家具娘,H36),1,0))","v":0},"自由回答が 正 の場合､手がかり回答が 正でも得点は 0点"]
[null,null,null,null,null,null,null,null,{"$f":"娘手がかり回答!$E$39","v":0},"←手がかり回答 得点"]
[null,null,null,null,null,null,null,null,{"$f":"$I$25+$I$37","v":18},"手がかり再生の得点"]

{"sheet":"父手がかり回答","index":4,"n_rows":66,"n_cols":7,"rows_kept":66,"cut":false,"hidden":true,"merged":[[38,4,39,4],[38,2,39,3],[18,2,19,3],[18,4,19,4]]}
[null,{"$f":"IF(COUNTIF(B3:B18,\"重複\"),\"重複した答えは一つのみ残しDeleteしてください\",\"\")","v":""}]
[null,null,null,null,null,"父"]
[null,{"$f":"IF(C3=0,\"\",IF(D3=\"該当無\",\"\",IF(COUNTIF($D$3:$D$18,D3)>=2,\"重複\",\"\")))","v":""},{"$f":"父回答!D17","v":0},{"$f":"IF(C3=0,\"\",_xlfn.IFNA(VLOOKUP(C3,$F$3:$G$66,2,0),\"該当無\"))","v":""},{"$f":"IF(COUNTIF($G$3:$G$66,D3)>0,2,0)","v":0},"カタナ","1.戦いの武器"]
[null,{"$f":"IF(C4=0,\"\",IF(D4=\"該当無\",\"\",IF(COUNTIF($D$3:$D$18,D4)>=2,\"重複\",\"\")))","v":""},{"$f":"父回答!D18","v":0},"",{"$f":"IF(COUNTIF($G$3:$G$66,D4)>0,2,0)","v":0},"刀","1.戦いの武器"]
[null,"",{"$f":"父回答!D19","v":"ヘリコプター"},"10.乗り物",2,"ｶﾀﾅ","1.戦いの武器"]
[null,"",{"$f":"父回答!D20","v":"筆"},"9.文房具",2,"かたな","1.戦いの武器"]
[null,"",{"$f":"父回答!D21","v":"馬"},"6.動物",2,"アコーディオン","2.楽器"]
[null,"",{"$f":"父回答!D22","v":0},"",0,"ｱｺｰﾃﾞｲｵﾝ","2.楽器"]
[null,"",{"$f":"父回答!D23","v":0},"",0,"アコーデオン","2.楽器"]
[null,"",{"$f":"父回答!D24","v":0},"",0,"あこーでおん","2.楽器"]
[null,"",{"$f":"父回答!H17","v":0},"",0,"アシ","3.体の一部"]
[null,"",{"$f":"父回答!H18","v":0},"",0,"ｱｼ","3.体の一部"]
[null,"",{"$f":"父回答!H19","v":0},"",0,"足","3.体の一部"]
[null,"",{"$f":"父回答!H20","v":0},"",0,"あし","3.体の一部"]
[null,"",{"$f":"父回答!H21","v":0},"",0,"テレビ","4.電気製品"]
[null,"",{"$f":"父回答!H22","v":0},"",0,"ﾃﾚﾋﾞ","4.電気製品"]
[null,"",{"$f":"父回答!H23","v":0},"",0,"てれび","4.電気製品"]
[null,"",{"$f":"父回答!H24","v":0},"",0,null,"4.電気製品"]
[null,null,"父 自由回答得点⇒",null,{"$f":"SUM(E3:E18)","v":6},"カブトムシ","5.昆虫"]
[null,null,null,null,null,"カブト虫","5.昆虫"]
[null,null,null,null,null,"かぶと虫","5.昆虫"]
[null,null,"自由回答×のみ",null,null,"かぶとむし","5.昆虫"]
[null,{"$f":"父回答!E29","v":0},{"$f":"IF(父回答!E17=0,父回答!C17,\"\")","v":"足"},{"$f":"IF(C23=\"\",\"\",VLOOKUP(C23,$F$3:$G$66,2,0))","v":"3.体の一部"},{"$f":"IF(D23=\"\",\"\",B23)","v":0},"ウマ","6.動物"]
[null,{"$f":"父回答!E30","v":0},{"$f":"IF(父回答!E18=0,父回答!C18,\"\")","v":"ズボン"},"12.衣類",{"$f":"IF(D24=\"\",\"\",B24)","v":0},"ｳﾏ","6.動物"]
[null,{"$f":"父回答!E31","v":0},{"$f":"IF(父回答!E19=0,父回答!C19,\"\")","v":""},"","","馬","6.動物"]
[null,{"$f":"父回答!E32","v":0},{"$f":"IF(父回答!E20=0,父回答!C20,\"\")","v":""},{"$f":"IF(C26=\"\",\"\",VLOOKUP(C26,$F$3:$G$66,2,0))","v":""},"","うま","6.動物"]
[null,{"$f":"父回答!E33","v":0},{"$f":"IF(父回答!E21=0,父回答!C21,\"\")","v":""},{"$f":"IF(C27=\"\",\"\",VLOOKUP(C27,$F$3:$G$66,2,0))","v":""},"","カボチャ","7.野菜"]
[null,{"$f":"父回答!E34","v":0},{"$f":"IF(父回答!E22=0,父回答!C22,\"\")","v":"カブトムシ"},"5.昆虫",0,"ｶﾎﾞﾁｬ","7.野菜"]
[null,{"$f":"父回答!E35","v":0},{"$f":"IF(父回答!E23=0,父回答!C23,\"\")","v":"刀"},"1.戦いの武器",0,null,"7.野菜"]
[null,{"$f":"父回答!E36","v":0},{"$f":"IF(父回答!E24=0,父回答!C24,\"\")","v":"ひまわり"},"14.花",0,"かぼちゃ","7.野菜"]
[null,{"$f":"父回答!I29","v":0},{"$f":"IF(父回答!I17=0,父回答!G17,\"\")","v":"スズメ"},"13.鳥",0,"ホウチョウ","8.台所用品"]
[null,{"$f":"父回答!I30","v":0},{"$f":"IF(父回答!I18=0,父回答!G18,\"\")","v":"カボチャ"},"7.野菜",0,"ﾎｳﾁｮｳ","8.台所用品"]
[null,{"$f":"父回答!I31","v":0},{"$f":"IF(父回答!I19=0,父回答!G19,\"\")","v":"包丁"},"8.台所用品",0,"包丁","8.台所用品"]
[null,{"$f":"父回答!I32","v":0},{"$f":"IF(父回答!I20=0,父回答!G20,\"\")","v":"パイナップル"},"11.果物",0,"ほうちょう","8.台所用品"]
[null,{"$f":"父回答!I33","v":0},{"$f":"IF(父回答!I21=0,父回答!G21,\"\")","v":"ノコギリ"},"15.大工道具",0,"フデ","9.文房具"]
[null,{"$f":"父回答!I34","v":0},{"$f":"IF(父回答!I22=0,父回答!G22,\"\")","v":"テレビ"},"4.電気製品",0,"ﾌﾃﾞ","9.文房具"]
[null,{"$f":"父回答!I35","v":0},{"$f":"IF(父回答!I23=0,父回答!G23,\"\")","v":"アコーディオン"},"2.楽器",0,"筆","9.文房具"]
[null,{"$f":"父回答!I36","v":0},{"$f":"IF(父回答!I24=0,父回答!G24,\"\")","v":"ソファー"},"16.家具",0,"ふで","9.文房具"]
[null,null,"父 手がかり回答得点⇒",null,{"$f":"SUM(E23:E38)","v":0},"ヘリコプター","10.乗り物"]
[null,null,null,null,null,"ﾍﾘｺﾌﾟﾀｰ","10.乗り物"]
[null,null,null,null,null,"へりこぷたー","10.乗り物"]
[null,null,null,null,null,null,"10.乗り物"]
[null,null,null,null,null,"パイナップル","11.果物"]
[null,null,null,null,null,"ﾊﾟｲﾅｯﾌﾟﾙ","11.果物"]
[null,null,null,null,null,null,"11.果物"]
[null,null,null,null,null,"ぱいなっぷる","11.果物"]
[null,null,null,null,null,"ズボン","12.衣類"]
[null,null,null,null,null,"ｽﾞﾎﾞﾝ","12.衣類"]
[null,null,null,null,null,null,"12.衣類"]
[null,null,null,null,null,"ずぼん","12.衣類"]
[null,null,null,null,null,"スズメ","13.鳥"]
[null,null,null,null,null,"ｽｽﾞﾒ","13.鳥"]
[null,null,null,null,null,"雀","13.鳥"]
[null,null,null,null,null,"すずめ","13.鳥"]
[null,null,null,null,null,"ヒマワリ","14.花"]
[null,null,null,null,null,"ﾋﾏﾜﾘ","14.花"]
[null,null,null,null,null,null,"14.花"]
[null,null,null,null,null,"ひまわり","14.花"]
[null,null,null,null,null,"ノコギリ","15.大工道具"]
[null,null,null,null,null,"ﾉｺｷﾞﾘ","15.大工道具"]
[null,null,null,null,null,"のこぎり","15.大工道具"]
[null,null,null,null,null,null,"15.大工道具"]
[null,null,null,null,null,"ソファー","16.家具"]
[null,null,null,null,null,"ｿﾌｧｰ","16.家具"]
[null,null,null,null,null,"そふぁー","16.家具"]
[null,null,null,null,null,null,"16.家具"]

{"sheet":"母手がかり回答","index":5,"n_rows":66,"n_cols":7,"rows_kept":66,"cut":false,"hidden":true,"merged":[[18,2,19,3],[18,4,19,4],[38,2,39,3],[38,4,39,4]]}
[null,{"$f":"IF(COUNTIF(B3:B18,\"重複\"),\"重複した答えは一つのみ残しDeleteしてください\",\"\")","v":""}]
[null,null,null,null,null,"母"]
[null,{"$f":"IF(C3=0,\"\",IF(D3=\"該当無\",\"\",IF(COUNTIF($D$3:$D$18,D3)>=2,\"重複\",\"\")))","v":""},{"$f":"母回答!D17","v":"親指"},{"$f":"IF(C3=0,\"\",_xlfn.IFNA(VLOOKUP(C3,$F$3:$G$66,2,0),\"該当無\"))","v":"3.体の一部"},{"$f":"IF(COUNTIF($G$3:$G$66,D3)>0,2,0)","v":2},"キカンジュー","1.戦いの武器"]
[null,{"$f":"IF(C4=0,\"\",IF(D4=\"該当無\",\"\",IF(COUNTIF($D$3:$D$18,D4)>=2,\"重複\",\"\")))","v":""},{"$f":"母回答!D18","v":"クジャク"},"13.鳥",{"$f":"IF(COUNTIF($G$3:$G$66,D4)>0,2,0)","v":2},"機関銃","1.戦いの武器"]
[null,"",{"$f":"母回答!D19","v":"ドレス"},"12.衣類",2,"キカンジュウ","1.戦いの武器"]
[null,"",{"$f":"母回答!D20","v":0},"",0,"きかんじゅう","1.戦いの武器"]
[null,"",{"$f":"母回答!D21","v":"機関銃"},{"$f":"IF(C7=0,\"\",_xlfn.IFNA(VLOOKUP(C7,$F$3:$G$66,2,0),\"該当無\"))","v":"1.戦いの武器"},2,"コト","2.楽器"]
[null,"",{"$f":"母回答!D22","v":"牛"},{"$f":"IF(C8=0,\"\",_xlfn.IFNA(VLOOKUP(C8,$F$3:$G$66,2,0),\"該当無\"))","v":"6.動物"},2,"ｺﾄ","2.楽器"]
[null,"",{"$f":"母回答!D23","v":"チューリップ"},"14.花",2,"琴","2.楽器"]
[null,"",{"$f":"母回答!D24","v":"セミ"},"5.昆虫",2,"こと","2.楽器"]
[null,"",{"$f":"母回答!H17","v":0},"",0,"オヤユビ","3.体の一部"]
[null,"",{"$f":"母回答!H18","v":0},"",0,"親ユビ","3.体の一部"]
[null,"",{"$f":"母回答!H19","v":0},"",0,"親指","3.体の一部"]
[null,"",{"$f":"母回答!H20","v":0},"",0,"おやゆび","3.体の一部"]
[null,"",{"$f":"母回答!H21","v":0},"",0,"デンシレンジ","4.電気製品"]
[null,"",{"$f":"母回答!H22","v":0},"",0,"電子レンジ","4.電気製品"]
[null,"",{"$f":"母回答!H23","v":0},"",0,"電子れんじ","4.電気製品"]
[null,"",{"$f":"母回答!H24","v":0},"",0,"でんしれんじ","4.電気製品"]
[null,null,"母 自由回答得点⇒",null,{"$f":"SUM(E3:E18)","v":14},"セミ","5.昆虫"]
[null,null,null,null,null,"ｾﾐ","5.昆虫"]
[null,null,null,null,null,"蝉","5.昆虫"]
[null,null,"自由回答×のみ",null,null,"せみ","5.昆虫"]
[null,{"$f":"母回答!E29","v":0},{"$f":"IF(母回答!E17=0,母回答!C17,\"\")","v":""},{"$f":"IF(C23=\"\",\"\",VLOOKUP(C23,$F$3:$G$66,2,0))","v":""},{"$f":"IF(D23=\"\",\"\",B23)","v":""},"ウシ","6.動物"]
[null,{"$f":"母回答!E30","v":0},{"$f":"IF(母回答!E18=0,母回答!C18,\"\")","v":""},"",{"$f":"IF(D24=\"\",\"\",B24)","v":""},"ｳｼ","6.動物"]
[null,{"$f":"母回答!E31","v":0},{"$f":"IF(母回答!E19=0,母回答!C19,\"\")","v":""},"","","牛","6.動物"]
[null,{"$f":"母回答!E32","v":0},{"$f":"IF(母回答!E20=0,母回答!C20,\"\")","v":"トラック"},"10.乗り物",0,"うし","6.動物"]
[null,{"$f":"母回答!E33","v":0},{"$f":"IF(母回答!E21=0,母回答!C21,\"\")","v":""},"","","トウモロコシ","7.野菜"]
[null,{"$f":"母回答!E34","v":0},{"$f":"IF(母回答!E22=0,母回答!C22,\"\")","v":""},"","","ﾄｳﾓﾛｺｼ","7.野菜"]
[null,{"$f":"母回答!E35","v":0},{"$f":"IF(母回答!E23=0,母回答!C23,\"\")","v":""},"","",null,"7.野菜"]
[null,{"$f":"母回答!E36","v":0},{"$f":"IF(母回答!E24=0,母回答!C24,\"\")","v":""},"","","とうもろこし","7.野菜"]
[null,{"$f":"母回答!I29","v":0},{"$f":"IF(母回答!I17=0,母回答!G17,\"\")","v":"トウモロコシ"},"7.野菜",0,"ナベ","8.台所用品"]
[null,{"$f":"母回答!I30","v":0},{"$f":"IF(母回答!I18=0,母回答!G18,\"\")","v":"なべ"},"8.台所用品",0,"ナﾍﾞ","8.台所用品"]
[null,{"$f":"母回答!I31","v":0},{"$f":"IF(母回答!I19=0,母回答!G19,\"\")","v":"ドライバー"},"15.大工道具",0,"鍋","8.台所用品"]
[null,{"$f":"母回答!I32","v":0},{"$f":"IF(母回答!I20=0,母回答!G20,\"\")","v":"メロン"},"11.果物",0,"なべ","8.台所用品"]
[null,{"$f":"母回答!I33","v":0},{"$f":"IF(母回答!I21=0,母回答!G21,\"\")","v":"ハサミ"},"9.文房具",0,"ハサミ","9.文房具"]
[null,{"$f":"母回答!I34","v":0},{"$f":"IF(母回答!I22=0,母回答!G22,\"\")","v":"電子レンジ"},"4.電気製品",0,"ﾊｻﾐ","9.文房具"]
[null,{"$f":"母回答!I35","v":0},{"$f":"IF(母回答!I23=0,母回答!G23,\"\")","v":"琴"},"2.楽器",0,"鋏","9.文房具"]
[null,{"$f":"母回答!I36","v":0},{"$f":"IF(母回答!I24=0,母回答!G24,\"\")","v":"椅子"},"16.家具",0,"はさみ","9.文房具"]
[null,null,"母 手がかり回答得点⇒",null,{"$f":"SUM(E23:E38)","v":0},"トラック","10.乗り物"]
[null,null,null,null,null,"ﾄﾗｯｸ","10.乗り物"]
[null,null,null,null,null,"とらっく","10.乗り物"]
[null,null,null,null,null,null,"10.乗り物"]
[null,null,null,null,null,"メロン","11.果物"]
[null,null,null,null,null,"ﾒﾛﾝ","11.果物"]
[null,null,null,null,null,null,"11.果物"]
[null,null,null,null,null,"めろん","11.果物"]
[null,null,null,null,null,"ドレス","12.衣類"]
[null,null,null,null,null,"ﾄﾞﾚｽ","12.衣類"]
[null,null,null,null,null,null,"12.衣類"]
[null,null,null,null,null,"どれす","12.衣類"]
[null,null,null,null,null,"クジャク","13.鳥"]
[null,null,null,null,null,"ｸｼﾞｬｸ","13.鳥"]
[null,null,null,null,null,"くじゃく","13.鳥"]
[null,null,null,null,null,null,"13.鳥"]
[null,null,null,null,null,"チューリップ","14.花"]
[null,null,null,null,null,"ﾁｭｰﾘｯﾌﾟ","14.花"]
[null,null,null,null,null,null,"14.花"]
[null,null,null,null,null,"ちゅーりっぷ","14.花"]
[null,null,null,null,null,"ドライバー","15.大工道具"]
[null,null,null,null,null,"ﾄﾞﾗｲﾊﾞｰ","15.大工道具"]
[null,null,null,null,null,"どらいばー","15.大工道具"]
[null,null,null,null,null,null,"15.大工道具"]
[null,null,null,null,null,"イス","16.家具"]
[null,null,null,null,null,"ｲｽ","16.家具"]
[null,null,null,null,null,"椅子","16.家具"]
[null,null,null,null,null,"いす","16.家具"]

{"sheet":"息子手がかり回答","index":6,"n_rows":66,"n_cols":7,"rows_kept":66,"cut":false,"hidden":true,"merged":[[18,2,19,3],[18,4,19,4],[38,2,39,3],[38,4,39,4]]}
[null,{"$f":"IF(COUNTIF(B3:B18,\"重複\"),\"重複した答えは一つのみ残しDeleteしてください\",\"\")","v":"重複した答えは一つのみ残しDeleteしてください"}]
[null,null,null,null,null,"息子"]
[null,{"$f":"IF(C3=0,\"\",IF(D3=\"該当無\",\"\",IF(COUNTIF($D$3:$D$18,D3)>=2,\"重複\",\"\")))","v":""},{"$f":"息子回答!D17","v":0},{"$f":"IF(C3=0,\"\",_xlfn.IFNA(VLOOKUP(C3,$F$3:$G$66,2,0),\"該当無\"))","v":""},{"$f":"IF(COUNTIF($G$3:$G$66,D3)>0,2,0)","v":0},"センシャ","1.戦いの武器"]
[null,{"$f":"IF(C4=0,\"\",IF(D4=\"該当無\",\"\",IF(COUNTIF($D$3:$D$18,D4)>=2,\"重複\",\"\")))","v":""},{"$f":"息子回答!D18","v":"コート"},"12.衣類",{"$f":"IF(COUNTIF($G$3:$G$66,D4)>0,2,0)","v":2},"戦車","1.戦いの武器"]
[null,"",{"$f":"息子回答!D19","v":"飛行機"},"10.乗り物",2,"ｾﾝｼｬ","1.戦いの武器"]
[null,"",{"$f":"息子回答!D20","v":"万年筆"},"9.文房具",2,"せんしゃ","1.戦いの武器"]
[null,"重複",{"$f":"息子回答!D21","v":"やかん"},{"$f":"IF(C7=0,\"\",_xlfn.IFNA(VLOOKUP(C7,$F$3:$G$66,2,0),\"該当無\"))","v":"8.台所用品"},2,"タイコ","2.楽器"]
[null,"重複",{"$f":"息子回答!D22","v":"やかん"},{"$f":"IF(C8=0,\"\",_xlfn.IFNA(VLOOKUP(C8,$F$3:$G$66,2,0),\"該当無\"))","v":"8.台所用品"},2,"ﾀｲｺ","2.楽器"]
[null,"",{"$f":"息子回答!D23","v":0},"",0,"太鼓","2.楽器"]
[null,"",{"$f":"息子回答!D24","v":0},"",0,"たいこ","2.楽器"]
[null,"",{"$f":"息子回答!H17","v":0},"",0,"メ","3.体の一部"]
[null,"",{"$f":"息子回答!H18","v":"トマト"},"7.野菜",2,"ﾒ","3.体の一部"]
[null,"重複",{"$f":"息子回答!H19","v":"やかん"},"8.台所用品",2,"目","3.体の一部"]
[null,"",{"$f":"息子回答!H20","v":0},"",0,"め","3.体の一部"]
[null,"",{"$f":"息子回答!H21","v":"机"},"16.家具",2,"ステレオ","4.電気製品"]
[null,"",{"$f":"息子回答!H22","v":0},"",0,"ｽﾃﾚｵ","4.電気製品"]
[null,"",{"$f":"息子回答!H23","v":0},"",0,"すてれお","4.電気製品"]
[null,"",{"$f":"息子回答!H24","v":0},"",0,null,"4.電気製品"]
[null,null,"息子 自由回答得点⇒",null,{"$f":"SUM(E3:E18)","v":16},"トンボ","5.昆虫"]
[null,null,null,null,null,"ﾄﾝﾎﾞ","5.昆虫"]
[null,null,null,null,null,"とんぼ","5.昆虫"]
[null,null,"自由回答×のみ",null,null,null,"5.昆虫"]
[null,{"$f":"息子回答!E29","v":1},{"$f":"IF(息子回答!E17=0,息子回答!C17,\"\")","v":"目"},{"$f":"IF(C23=\"\",\"\",VLOOKUP(C23,$F$3:$G$66,2,0))","v":"3.体の一部"},{"$f":"IF(D23=\"\",\"\",B23)","v":1},"ウサギ","6.動物"]
[null,{"$f":"息子回答!E30","v":1},{"$f":"IF(息子回答!E18=0,息子回答!C18,\"\")","v":""},"",{"$f":"IF(D24=\"\",\"\",B24)","v":""},"ｳｻｷﾞ","6.動物"]
[null,{"$f":"息子回答!E31","v":1},{"$f":"IF(息子回答!E19=0,息子回答!C19,\"\")","v":""},"","","兎","6.動物"]
[null,{"$f":"息子回答!E32","v":1},{"$f":"IF(息子回答!E20=0,息子回答!C20,\"\")","v":""},"","","うさぎ","6.動物"]
[null,{"$f":"息子回答!E33","v":1},{"$f":"IF(息子回答!E21=0,息子回答!C21,\"\")","v":""},"","","トマト","7.野菜"]
[null,{"$f":"息子回答!E34","v":1},{"$f":"IF(息子回答!E22=0,息子回答!C22,\"\")","v":""},"","","ﾄﾏﾄ","7.野菜"]
[null,{"$f":"息子回答!E35","v":1},{"$f":"IF(息子回答!E23=0,息子回答!C23,\"\")","v":"戦車"},"1.戦いの武器",1,null,"7.野菜"]
[null,{"$f":"息子回答!E36","v":1},{"$f":"IF(息子回答!E24=0,息子回答!C24,\"\")","v":"ゆり"},"14.花",1,"とまと","7.野菜"]
[null,{"$f":"息子回答!I29","v":0},{"$f":"IF(息子回答!I17=0,息子回答!G17,\"\")","v":"ペンギン"},"13.鳥",0,"ヤカン","8.台所用品"]
[null,{"$f":"息子回答!I30","v":1},{"$f":"IF(息子回答!I18=0,息子回答!G18,\"\")","v":""},"","","ﾔｶﾝ","8.台所用品"]
[null,{"$f":"息子回答!I31","v":1},{"$f":"IF(息子回答!I19=0,息子回答!G19,\"\")","v":""},"","","やかん","8.台所用品"]
[null,{"$f":"息子回答!I32","v":0},{"$f":"IF(息子回答!I20=0,息子回答!G20,\"\")","v":"レモン"},"11.果物",0,null,"8.台所用品"]
[null,{"$f":"息子回答!I33","v":1},{"$f":"IF(息子回答!I21=0,息子回答!G21,\"\")","v":""},"","","マンネンヒツ","9.文房具"]
[null,{"$f":"息子回答!I34","v":0},{"$f":"IF(息子回答!I22=0,息子回答!G22,\"\")","v":"かなづち"},"15.大工道具",0,"ﾏﾝﾈﾝﾋﾂ","9.文房具"]
[null,{"$f":"息子回答!I35","v":0},{"$f":"IF(息子回答!I23=0,息子回答!G23,\"\")","v":"ステレオ"},"4.電気製品",0,"万年筆","9.文房具"]
[null,{"$f":"息子回答!I36","v":0},{"$f":"IF(息子回答!I24=0,息子回答!G24,\"\")","v":"たいこ"},"2.楽器",0,"まんねんひつ","9.文房具"]
[null,null,"息子 手がかり回答得点⇒",null,{"$f":"SUM(E23:E38)","v":3},"ヒコウキ","10.乗り物"]
[null,null,null,null,null,"ﾋｺｳｷ","10.乗り物"]
[null,null,null,null,null,"飛行機","10.乗り物"]
[null,null,null,null,null,"ひこうき","10.乗り物"]
[null,null,null,null,null,"レモン","11.果物"]
[null,null,null,null,null,"ﾚﾓﾝ","11.果物"]
[null,null,null,null,null,null,"11.果物"]
[null,null,null,null,null,"れもん","11.果物"]
[null,null,null,null,null,"コート","12.衣類"]
[null,null,null,null,null,"ｺｰﾄ","12.衣類"]
[null,null,null,null,null,null,"12.衣類"]
[null,null,null,null,null,"こーと","12.衣類"]
[null,null,null,null,null,"ペンギン","13.鳥"]
[null,null,null,null,null,"ﾍﾟﾝｷﾞﾝ","13.鳥"]
[null,null,null,null,null,"ぺんぎん","13.鳥"]
[null,null,null,null,null,null,"13.鳥"]
[null,null,null,null,null,"ユリ","14.花"]
[null,null,null,null,null,"ﾕﾘ","14.花"]
[null,null,null,null,null,"百合","14.花"]
[null,null,null,null,null,"ゆり","14.花"]
[null,null,null,null,null,"カナヅチ","15.大工道具"]
[null,null,null,null,null,"ｶﾅﾂﾞﾁ","15.大工道具"]
[null,null,null,null,null,"金槌","15.大工道具"]
[null,null,null,null,null,"かなづち","15.大工道具"]
[null,null,null,null,null,"ツクエ","16.家具"]
[null,null,null,null,null,"ﾂｸｴ","16.家具"]
[null,null,null,null,null,"机","16.家具"]
[null,null,null,null,null,"つくえ","16.家具"]

{"sheet":"娘手がかり回答","index":7,"n_rows":66,"n_cols":7,"rows_kept":66,"cut":false,"hidden":true,"merged":[[38,2,39,3],[38,4,39,4],[18,2,19,3],[18,4,19,4]]}
[null,{"$f":"IF(COUNTIF(B3:B18,\"重複\"),\"重複した答えは一つのみ残しDeleteしてください\",\"\")","v":"重複した答えは一つのみ残しDeleteしてください"}]
[null,null,null,null,null,"娘"]
[null,{"$f":"IF(C3=0,\"\",IF(D3=\"該当無\",\"\",IF(COUNTIF($D$3:$D$18,D3)>=2,\"重複\",\"\")))","v":""},{"$f":"娘回答!D17","v":"耳"},{"$f":"IF(C3=0,\"\",_xlfn.IFNA(VLOOKUP(C3,$F$3:$G$66,2,0),\"該当無\"))","v":"3.体の一部"},{"$f":"IF(COUNTIF($G$3:$G$66,D3)>0,2,0)","v":2},"タイホウ","1.戦いの武器"]
[null,{"$f":"IF(C4=0,\"\",IF(D4=\"該当無\",\"\",IF(COUNTIF($D$3:$D$18,D4)>=2,\"重複\",\"\")))","v":""},{"$f":"娘回答!D18","v":"てんとう虫"},"5.昆虫",{"$f":"IF(COUNTIF($G$3:$G$66,D4)>0,2,0)","v":2},"大砲","1.戦いの武器"]
[null,"",{"$f":"娘回答!D19","v":0},"",0,"ﾀｲﾎｳ","1.戦いの武器"]
[null,"重複",{"$f":"娘回答!D20","v":"ペンチ"},"15.大工道具",2,"たいほう","1.戦いの武器"]
[null,"重複",{"$f":"娘回答!D21","v":"スカート"},{"$f":"IF(C7=0,\"\",_xlfn.IFNA(VLOOKUP(C7,$F$3:$G$66,2,0),\"該当無\"))","v":"12.衣類"},2,"オルガン","2.楽器"]
[null,"",{"$f":"娘回答!D22","v":"ものさし"},{"$f":"IF(C8=0,\"\",_xlfn.IFNA(VLOOKUP(C8,$F$3:$G$66,2,0),\"該当無\"))","v":"9.文房具"},2,"ｵﾙｶﾞﾝ","2.楽器"]
[null,"",{"$f":"娘回答!D23","v":"オートバイ"},"10.乗り物",2,null,"2.楽器"]
[null,"",{"$f":"娘回答!D24","v":"ライオン"},"6.動物",2,"おるがん","2.楽器"]
[null,"",{"$f":"娘回答!H17","v":0},"",0,"ミミ","3.体の一部"]
[null,"",{"$f":"娘回答!H18","v":0},"",0,"ﾐﾐ","3.体の一部"]
[null,"重複",{"$f":"娘回答!H19","v":"ペンチ"},"15.大工道具",2,"耳","3.体の一部"]
[null,"重複",{"$f":"娘回答!H20","v":"スカート"},"12.衣類",2,"みみ","3.体の一部"]
[null,"",{"$f":"娘回答!H21","v":0},"",0,"ラジオ","4.電気製品"]
[null,"",{"$f":"娘回答!H22","v":0},"",0,"ﾗｼﾞｵ","4.電気製品"]
[null,"",{"$f":"娘回答!H23","v":0},"",0,"らじお","4.電気製品"]
[null,"",{"$f":"娘回答!H24","v":0},"",0,null,"4.電気製品"]
[null,null,"娘 自由回答得点⇒",null,{"$f":"SUM(E3:E18)","v":18},"テントウムシ","5.昆虫"]
[null,null,null,null,null,"テントウ虫","5.昆虫"]
[null,null,null,null,null,"てんとう虫","5.昆虫"]
[null,null,"自由回答×のみ",null,null,"てんとうむし","5.昆虫"]
[null,{"$f":"娘回答!E29","v":0},{"$f":"IF(娘回答!E17=0,娘回答!C17,\"\")","v":""},{"$f":"IF(C23=\"\",\"\",VLOOKUP(C23,$F$3:$G$66,2,0))","v":""},{"$f":"IF(D23=\"\",\"\",B23)","v":""},"ライオン","6.動物"]
[null,{"$f":"娘回答!E30","v":0},{"$f":"IF(娘回答!E18=0,娘回答!C18,\"\")","v":""},{"$f":"IF(C24=\"\",\"\",VLOOKUP(C24,$F$3:$G$66,2,0))","v":""},{"$f":"IF(D24=\"\",\"\",B24)","v":""},"ﾗｲｵﾝ","6.動物"]
[null,{"$f":"娘回答!E31","v":0},{"$f":"IF(娘回答!E19=0,娘回答!C19,\"\")","v":"ぶどう"},"11.果物",0,"らいおん","6.動物"]
[null,{"$f":"娘回答!E32","v":0},{"$f":"IF(娘回答!E20=0,娘回答!C20,\"\")","v":""},"","",null,"6.動物"]
[null,{"$f":"娘回答!E33","v":0},{"$f":"IF(娘回答!E21=0,娘回答!C21,\"\")","v":""},"","","タケノコ","7.野菜"]
[null,{"$f":"娘回答!E34","v":0},{"$f":"IF(娘回答!E22=0,娘回答!C22,\"\")","v":""},"","","ﾀｹﾉｺ","7.野菜"]
[null,{"$f":"娘回答!E35","v":0},{"$f":"IF(娘回答!E23=0,娘回答!C23,\"\")","v":""},"","",null,"7.野菜"]
[null,{"$f":"娘回答!E36","v":0},{"$f":"IF(娘回答!E24=0,娘回答!C24,\"\")","v":""},"","","たけのこ","7.野菜"]
[null,{"$f":"娘回答!I29","v":0},{"$f":"IF(娘回答!I17=0,娘回答!G17,\"\")","v":"たいほう"},"1.戦いの武器",0,"フライパン","8.台所用品"]
[null,{"$f":"娘回答!I30","v":0},{"$f":"IF(娘回答!I18=0,娘回答!G18,\"\")","v":"にわとり"},"13.鳥",0,"ﾌﾗｲﾊﾟﾝ","8.台所用品"]
[null,{"$f":"娘回答!I31","v":0},{"$f":"IF(娘回答!I19=0,娘回答!G19,\"\")","v":""},"","","ふらいぱん","8.台所用品"]
[null,{"$f":"娘回答!I32","v":0},{"$f":"IF(娘回答!I20=0,娘回答!G20,\"\")","v":""},"","",null,"8.台所用品"]
[null,{"$f":"娘回答!I33","v":0},{"$f":"IF(娘回答!I21=0,娘回答!G21,\"\")","v":"フライパン"},"8.台所用品",0,"モノサシ","9.文房具"]
[null,{"$f":"娘回答!I34","v":0},{"$f":"IF(娘回答!I22=0,娘回答!G22,\"\")","v":"ラジオ"},"4.電気製品",0,"ﾓﾉｻｼ","9.文房具"]
[null,{"$f":"娘回答!I35","v":0},{"$f":"IF(娘回答!I23=0,娘回答!G23,\"\")","v":"オルガン"},"2.楽器",0,"物差し","9.文房具"]
[null,{"$f":"娘回答!I36","v":0},{"$f":"IF(娘回答!I24=0,娘回答!G24,\"\")","v":"ベット"},"16.家具",0,"ものさし","9.文房具"]
[null,null,"娘 手がかり回答得点⇒",null,{"$f":"SUM(E23:E38)","v":0},"オートバイ","10.乗り物"]
[null,null,null,null,null,"ｵｰﾄﾊﾞｲ","10.乗り物"]
[null,null,null,null,null,"おーとばい","10.乗り物"]
[null,null,null,null,null,null,"10.乗り物"]
[null,null,null,null,null,"ブドウ","11.果物"]
[null,null,null,null,null,"ﾌﾞﾄﾞｳ","11.果物"]
[null,null,null,null,null,null,"11.果物"]
[null,null,null,null,null,"ぶどう","11.果物"]
[null,null,null,null,null,"スカート","12.衣類"]
[null,null,null,null,null,"ｽｶｰﾄ","12.衣類"]
[null,null,null,null,null,null,"12.衣類"]
[null,null,null,null,null,"すかーと","12.衣類"]
[null,null,null,null,null,"ニワトリ","13.鳥"]
[null,null,null,null,null,"ﾆﾜﾄﾘ","13.鳥"]
[null,null,null,null,null,"にわとり","13.鳥"]
[null,null,null,null,null,null,"13.鳥"]
[null,null,null,null,null,"バラ","14.花"]
[null,null,null,null,null,"ﾊﾞﾗ","14.花"]
[null,null,null,null,null,"薔薇","14.花"]
[null,null,null,null,null,"ばら","14.花"]
[null,null,null,null,null,"ペンチ","15.大工道具"]
[null,null,null,null,null,"ﾍﾟﾝﾁ","15.大工道具"]
[null,null,null,null,null,"ぺんち","15.大工道具"]
[null,null,null,null,null,null,"15.大工道具"]
[null,null,null,null,null,"ベット","16.家具"]
[null,null,null,null,null,"ﾍﾞｯﾄ","16.家具"]
[null,null,null,null,null,"べっと","16.家具"]
[null,null,null,null,null,null,"16.家具"]

{"sheet":"回答一覧表","index":8,"n_rows":0,"n_cols":0,"rows_kept":0,"cut":false,"hidden":false,"merged":[]}

{"sheet":"試験説明P1","index":9,"n_rows":13,"n_cols":2,"rows_kept":13,"cut":false,"hidden":false,"merged":[[22,13,23,13],[22,11,23,11]]}
[null,"後期高齢者認知機能検査(時間は30分)"]
[null," 検査用紙への記入「名前」「生年月日」"]
[null,"(1) イラストの記憶"]
[null,"(2) 介入課題(正解だとしても採点されません)"]
[null,"　　「問題用紙１」"]
[null,"　　数字「○と○」に斜線を引く"]
[null,"　　30秒間計測"]
[null,"(3) 自由回答 (自由回答･手がかり回答は 「漢字」でも「カタカナ」でも「ひらがな」でもOK。)"]
[null,"(4) 手がかり回答(間違えた場合は、二重線で訂正。(消しゴムNG))"]
[null,"(５) 時間の見当識の実施"]
[null,"     「検査時刻」は誤差が30分未満で1点"]
[null,"     前後それぞれ30分以上ずれる場合は 0点"]
[null,"　"]

{"sheet":"採点基準","index":10,"n_rows":0,"n_cols":0,"rows_kept":0,"cut":false,"hidden":false,"merged":[[22,11,23,11]]}